BEGIN:VCALENDAR
VERSION:2.0
METHOD:PUBLISH
BEGIN:VEVENT
UID:WILD_APRICOT_EVENT_3744947_SESSION_1
DTSTART:20200515T140000Z
DTEND:20200516T140000Z
SUMMARY:International Day of Light 2020
LOCATION:
DESCRIPTION:https://optics.org.au/event-3744947\n\n\nCelebrate the 60th Anniversary of the Laser in 2020 with IDL!\n  https://www.lightday.org/\n\n
DTSTAMP:20260424T162555Z
END:VEVENT
END:VCALENDAR
