BEGIN:VCALENDAR
VERSION:2.0
METHOD:PUBLISH
BEGIN:VEVENT
UID:WILD_APRICOT_EVENT_3492075_SESSION_1
DTSTART:20190813T040000Z
DTEND:20190813T040000Z
SUMMARY:Imaging and Optical Physics Seminar
LOCATION:Monash University
DESCRIPTION:https://optics.org.au/event-3492075\n\nThe next Imaging and Optical Physics seminar will take place at 2 pm\, Tuesday\, August 13th at Monash University.\n  Dr Scott Findlay will present his work on Structure Retrieval using Phase-Contrast STEM\, and Dr Tim Petersen will present his work on Wave-Optical Superposition as Prime Number Sieves (see abstracts below).\n  We will meet in the Large Seminar Room\, Room 107 (First Floor)\, 10 College Walk\, Clayton Campus. To access the Clayton campus please click the following links for information on public transport\, parking or for a map of the campus.\n  We hope to see you all at the seminar.\n
DTSTAMP:20260424T163758Z
END:VEVENT
END:VCALENDAR
