BEGIN:VCALENDAR
VERSION:2.0
METHOD:PUBLISH
BEGIN:VEVENT
UID:WILD_APRICOT_EVENT_3461785_SESSION_1
DTSTART:20190718T080000Z
DTEND:20190718T100000Z
SUMMARY:2019 Dirac Medal and Lecture with Prof. Lene Hau
LOCATION:Tyree Room\, John Niland Scientia Building\, UNSW Sydney
DESCRIPTION:https://optics.org.au/event-3461785\n\n                          Don't forget to register for the 2019 Dirac Medal and Lecture with Professor Lene Vestergaard Hau (Harvard University).\n \n         This year's lecture will explore how Lene and her team have slowed\, stopped and restarted light. The observations represent the ultimate control over the inter-conversion of light and matter\, and point to novel paradigms for quantum information processing.\n         \n         For more information and to register\, visit Eventbrite using the button below.\n                                                    Location: Tyree Room\, John Niland Scientia Building\, UNSW Sydney\n         (UNSW map ref. G19)\n         Time: 6.00pm - 8.00pm\n         RSVP: 18 July 2019\n          \n                   \n
DTSTAMP:20260424T163937Z
END:VEVENT
END:VCALENDAR
