BEGIN:VCALENDAR
VERSION:2.0
METHOD:PUBLISH
BEGIN:VEVENT
UID:WILD_APRICOT_EVENT_3368791_SESSION_1
DTSTART:20221210T130000Z
DTEND:20221216T130000Z
SUMMARY:AIP Congress 2022/ANZCOP 2022/WSOF 2022
LOCATION:Adelaide
DESCRIPTION:https://optics.org.au/event-3368791\n\nThe Australian and New Zealancd Conference on Optics and Photonics (ANZCOP 2022) will be co-located with the 2022 Australian Institute of Physics Congress\, and the 7th International Workshop on Specialty Optical Fibers and their Applications.\n  The conference is running over 11th to 16th December at the Adelaide Convention Centre. For full details\, please see the conference website.\n  Abstract submissions open on 20 April 2022.\n
DTSTAMP:20260424T162113Z
END:VEVENT
END:VCALENDAR
