BEGIN:VCALENDAR
VERSION:2.0
METHOD:PUBLISH
BEGIN:VEVENT
UID:WILD_APRICOT_EVENT_3310202_SESSION_1
DTSTART:20190706T140000Z
DTEND:20190710T140000Z
SUMMARY:International Conference on Advanced Vibrational Spectroscopy (ICAVS)
LOCATION:Auckland\, New Zealand
DESCRIPTION:https://optics.org.au/event-3310202\n\nThe tenth meeting of the International Conference on Advanced Vibrational Spectroscopy (ICAVS) will take place in Auckland\, New Zealand\, 7-12 July 2019. \n  This conference series brings together the best and brightest in the research fields of IR and Raman spectroscopy and associated disciplines with leading industrialist\, clinicians\, and other users of vibrational spectroscopy.  The ICAVS tradition supports a vibrant exhibition of commercial instruments\, and component suppliers representing leading products in the IR (THz\, mid\, and NIR)\, Raman\, and laser spectroscopy fields.\n  For more information: http://www.icavs.org/2019-conference/\n  Please note abstract submission for ICAVS10 closes 14 March 2019\n  \n\n
DTSTAMP:20260424T164110Z
END:VEVENT
END:VCALENDAR
