BEGIN:VCALENDAR
VERSION:2.0
METHOD:PUBLISH
BEGIN:VEVENT
UID:WILD_APRICOT_EVENT_3310149_SESSION_1
DTSTART:20190516T050000Z
DTEND:20190516T090000Z
SUMMARY:Sydney OSA Local Section - International Day of Light Event
LOCATION:School of physics and SNH foyer\, The University of Sydney
DESCRIPTION:https://optics.org.au/event-3310149\n\n\n\n  \nInternational day of light: A day to connect!\n  Organized by the Sydney OSA local section and the University of Sydney OSA student chapter\n  The Sydney Optical Society (OSA) local section and student chapters are pleased to invite you to celebrate the International Day of Light 2019!\n  We are delighted to support this global initiative that provides a focal point for everyone with appreciation of light and passion for optics and photonics (https://www.lightday.org/).\n  We invite all OSA and Australian Optical Society (AOS) members in Sydney to celebrate the International Day of Light\, network and hear from the local optics communities.\n  We prepared an exciting program for you and proud to officially launch our local section on the International Day of Light!\n  Program\n      * 3:00 - 4:00 Professor Kishan Dholakia gives a talk “Let’s celebrate light” with a fun presentation and summary of research\n\n        * 4:00 - 5:00 OSA Ambassador and Institute of Photonics and Optical Science addresses\n\n        * 5:00 - 7:00 OSA local section reception (Drinks and food provided)\n\n\n  Please register your attendance by following the link:  https://www.eventbrite.com.au/e/international-day-of-light-a-day-to-connect-tickets-57763567385\n
DTSTAMP:20260424T164218Z
END:VEVENT
END:VCALENDAR
