BEGIN:VCALENDAR
VERSION:2.0
METHOD:PUBLISH
BEGIN:VEVENT
UID:WILD_APRICOT_EVENT_3304970_SESSION_1
DTSTART:20191201T130000Z
DTEND:20191204T130000Z
SUMMARY:9th Australian Conference on Laser Diagnostics
LOCATION:Glenelg\, SA
DESCRIPTION:https://optics.org.au/event-3304970\n\nThe 9th Australian Conference on Laser Diagnostics builds on series of successful meetings since the first Sydney conference in 1996. The conference aims to bring together Australian and international researchers to discuss the development and applications of laser diagnostic techniques. \n  \n The conference will be held in Glenelg\, a vibrant seaside of Adelaide\, on Dec 2-4. See the first announce.\n  \n\n  Note: It will be followed by the Australian Combustion Symposium\, which will be held at the same venue from Dec 4-6\, 2019. \n \n\n
DTSTAMP:20260424T164540Z
END:VEVENT
END:VCALENDAR
