BEGIN:VCALENDAR
VERSION:2.0
METHOD:PUBLISH
BEGIN:VEVENT
UID:WILD_APRICOT_EVENT_3294025_SESSION_1
DTSTART:20190515T140000Z
DTEND:20190516T140000Z
SUMMARY:International Day of Light
LOCATION:
DESCRIPTION:https://optics.org.au/event-3294025\n\n   International Day of Light\n\n
DTSTAMP:20260424T161121Z
END:VEVENT
END:VCALENDAR
