BEGIN:VCALENDAR
VERSION:2.0
METHOD:PUBLISH
BEGIN:VEVENT
UID:WILD_APRICOT_EVENT_3250354_SESSION_1
DTSTART:20191207T130000Z
DTEND:20191212T130000Z
SUMMARY:ANZCOP 2019
LOCATION:Melbourne
DESCRIPTION:https://optics.org.au/event-3250354\n\nANZCOP 2019 will be held in Melbourne 8th to 12th December. This co-locates several conferences together with the 44th ACOFT\, ACOLS and the AOS Conference. Details here\n
DTSTAMP:20260424T164006Z
END:VEVENT
END:VCALENDAR
