BEGIN:VCALENDAR
VERSION:2.0
METHOD:PUBLISH
BEGIN:VEVENT
UID:WILD_APRICOT_EVENT_3044475_SESSION_1
DTSTART:20181203T130000Z
DTEND:20181208T130000Z
SUMMARY:IONS KOALA 2018
LOCATION:Sydney
DESCRIPTION:https://optics.org.au/event-3044475\n\n\n\n  IONS KOALA (Conference on Optics\, Atoms\, and Laser Applications) is an annual student conference held in Australia and New Zealand sponsored by The Optical Society (OSA). The 11th instalment of IONS KOALA is being co-hosted by the OSA student chapters at Macquarie University and the University of Sydney\n\n  Invited Speakers\n  Professor Muyinatu Bell – John Hopkins University\, USA\n  Professor Paulo Dainese – University of Campinas\, Brazil\n  Dr Laura Coyle – Ball Aerospace\, USA\n  Professor Michael Steel – Macquarie University\, Australia\n  Dr Karl Kruszelnicki – University of Sydney\, Australia\nDr Jean-luc Doumont – Principiæ\, Belgium  \n  Important Dates\n  14/09/18: Final abstract deadline (Extended to 30/09/18)\n  08/10/18: Successful abstract notification\n  03/12/18: Check-in for KOALA 2018\n  Travel Grants and Scholarships\n  A limited number of domestic and international travel grants will be available. We encourage all attendees to apply!\n  ionskoala.osahost.org                   ionskoala2018@gmail.com\n  \n\n
DTSTAMP:20260424T161605Z
END:VEVENT
END:VCALENDAR
