BEGIN:VCALENDAR
VERSION:2.0
METHOD:PUBLISH
BEGIN:VEVENT
UID:WILD_APRICOT_EVENT_2825149_SESSION_1
DTSTART:20180728T160000Z
DTEND:20180803T160000Z
SUMMARY:CLEO Pacific Rim 2018
LOCATION:Hong Kong Convention and Exhibition Centre
DESCRIPTION:https://optics.org.au/event-2825149\n\n\n\n  CLEO Pacific Rim is the preeminent forum in this region reporting on the latest research and development in a wide range of laser and electro-optic disciplines\, including fundamental physics of lasers and quantum optics\, device development\, systems engineering\, and applications.\n\n  The 13th CLEO Pacific Rim conference will take place at the Hong Kong Convention and Exhibition Centre\, Hong Kong SAR from 29 July to 3 August 2018. \n  The call for papers is open now! Submissions are due 28 February 2018. \n  CLEO PR 2018 Call for Papers\n\n
DTSTAMP:20260424T161300Z
END:VEVENT
END:VCALENDAR
