BEGIN:VCALENDAR
VERSION:2.0
METHOD:PUBLISH
BEGIN:VEVENT
UID:WILD_APRICOT_EVENT_2671088_SESSION_1
DTSTART:20170929T040000Z
DTEND:20170929T090000Z
SUMMARY:CUDOS Legacy Showcase
LOCATION:Sydney Nanoscience Hub\, The University of Sydney
DESCRIPTION:https://optics.org.au/event-2671088\n\nThe CUDOS Legacy Showcase will be held on 29 September\, 2:00-7:00 p.m.\, at Sydney Nanoscience Hub. All welcome!\n  Find the flier\, and more.\n
DTSTAMP:20260424T160651Z
END:VEVENT
END:VCALENDAR
