BEGIN:VCALENDAR
VERSION:2.0
METHOD:PUBLISH
BEGIN:VEVENT
UID:WILD_APRICOT_EVENT_2634543_SESSION_1
DTSTART:20200801T140000Z
DTEND:20200806T140000Z
SUMMARY:CLEO Pacific-Rim 2020
LOCATION:Sydney International Convention Centre
DESCRIPTION:https://optics.org.au/event-2634543\n\n\n  The 14th Pacific Rim Conference on Lasers and Electro-Optics (CLEO Pacific Rim\, CLEO-PR 2020) will be held at the International Convention Centre\, Sydney\, Australia from 2 to 6 August 2020.\n  Paper submission closes Friday 6 March 2020\n\n    www.cleopr2020.org\n\n
DTSTAMP:20260424T161034Z
END:VEVENT
END:VCALENDAR
