BEGIN:VCALENDAR
VERSION:2.0
METHOD:PUBLISH
BEGIN:VEVENT
UID:WILD_APRICOT_EVENT_2522905_SESSION_1
DTSTART:20181208T130000Z
DTEND:20181213T130000Z
SUMMARY:Australian Institute of Physics Congress 2018
LOCATION:Perth\, Western Australia
DESCRIPTION:https://optics.org.au/event-2522905\n\nThe Australian Institute of Physics and the Australian Optical Society\, with the support of the Australian National Fabrication Facility (ANFF) and the Australian Nanotechnology Network (ANN)\, warmly welcome you to the 23rd AIP Congress and the Australian Optical Society Conference that will be held jointly with the 43rd Australian Conference on Optical Fibre Technology (ACOFT) and with the 2018 Conference on Optoelectronic and Microelectronic Materials and Devices (COMMAD). Seamlessly integrated to form one of Australia’s foremost science forums\, the meeting will take place in beautiful Perth on the leafy campus of the University of Western Australia\, during 9-13 December 2018.  \n\n  For more details see: aip2018.org.au\n\n
DTSTAMP:20260424T163635Z
END:VEVENT
END:VCALENDAR
