BEGIN:VCALENDAR
VERSION:2.0
METHOD:PUBLISH
BEGIN:VEVENT
UID:WILD_APRICOT_EVENT_2395400_SESSION_1
DTSTART:20170429T140000Z
DTEND:20170501T140000Z
SUMMARY:The International Conference on Biophotonics
LOCATION:Perth\, WA
DESCRIPTION:https://optics.org.au/event-2395400\n\nThe International Conference on Biophotonics represents a unique meeting forum\, the 5th in the series and the first in the southern hemisphere\, to explore strategic directions for this vital field – the study and use of light in biology and medicine. It brings together today’s research leaders and aspiring leaders from around the globe.\n.  For more details see: http://icob2017.com\n
DTSTAMP:20260424T161114Z
END:VEVENT
END:VCALENDAR
