BEGIN:VCALENDAR
VERSION:2.0
METHOD:PUBLISH
BEGIN:VEVENT
UID:WILD_APRICOT_EVENT_2228557_SESSION_1
DTSTART:20161211T130000Z
DTEND:20161214T130000Z
SUMMARY:The 13th International Conference on Optoelectronics and Microelectronic Materials and Devices (COMMAD2016)
LOCATION:University of New South Wales\, Sydney\, Australia
DESCRIPTION:https://optics.org.au/event-2228557\n\nCOMMAD is held biannually and provides a forum for Australian and international semiconductor communities to meet and discuss topics related to microelectronic and optoelectronic materials\, processes and devices including nanoscale and quantum technologies.\n  COMMAD2016 will bring together over 200 scientists\, engineers\, students and industrial collaborators to discuss new and exciting advances in these fields.\n  For more details see: http://www.commad2016.org.au/\n
DTSTAMP:20260424T161826Z
END:VEVENT
END:VCALENDAR
