BEGIN:VCALENDAR
VERSION:2.0
METHOD:PUBLISH
BEGIN:VEVENT
UID:WILD_APRICOT_EVENT_2228550_SESSION_1
DTSTART:20170423T140000Z
DTEND:20170428T140000Z
SUMMARY:The 25th International Conference on Optical Fiber Sensors
LOCATION:Maison Glad Hotel\, Jeju\, Korea
DESCRIPTION:https://optics.org.au/event-2228550\n\nThe International Conference on Optical Fiber Sensors (OFS)\, established in 1983\, is acknowledged as the world’s leading conference on all topics related to photonic sensing technologies. OFS provides a forum for reporting and exchanging ideas on the latest advances in research and development on fiber-optic and photonic sensing. It has also contributed significantly to industrialization and standardization of the related devices and systems for field deployment. The next 25th OFS conference\, OFS-25\, will be held in scenic and beautiful Jeju Island\, Korea\, in the Asia-Pacific region from 24 to 28 April 2017. It will offer plenary and invited talks\, contributed oral and poster presentations\, workshops\, and exhibition of commercial products. Social and cultural events will also take place to foster networking among the participants in a friendly setting.  \n\n  For more details see: http://ofs-25.org/\n
DTSTAMP:20260424T161838Z
END:VEVENT
END:VCALENDAR
