BEGIN:VCALENDAR
VERSION:2.0
METHOD:PUBLISH
BEGIN:VEVENT
UID:WILD_APRICOT_EVENT_2165372_SESSION_1
DTSTART:20171202T130000Z
DTEND:20171207T130000Z
SUMMARY:Australian and New Zealand Conference on Optics and Photonics 2017 (ANZCOP 2017)
LOCATION:Queenstown\, New Zealand
DESCRIPTION:https://optics.org.au/event-2165372\n\nThe Australian and New Zealand Conference on Optics and Photonics (ANZCOP) conference series integrates the Australian Conference on Optics\, Lasers and Spectroscopy (ACOLS) and the Australian Conference on Optical Fibre Technology (ACOFT). ANZCOP 2013 was held in Perth and ANZCOP 2015 was held in Adelaide.\n  ANZCOP 2017 will be held in Queenstown\, New Zealand 3-7 December 2017.\n  For more details visit the ANZCOP 2017 website: anzcop2017.nz\n  \n\n
DTSTAMP:20260424T163245Z
END:VEVENT
END:VCALENDAR
