BEGIN:VCALENDAR
VERSION:2.0
METHOD:PUBLISH
BEGIN:VEVENT
UID:WILD_APRICOT_EVENT_2165370_SESSION_1
DTSTART:20161203T130000Z
DTEND:20161208T130000Z
SUMMARY:13th Asia-Pacific Physics Conference in conjunction with the 22nd Australian Institute of Physics Congress
LOCATION:Brisbane Convention and Exhibition Centre
DESCRIPTION:https://optics.org.au/event-2165370\n\nThis joint meeting will enhance links in the Asia-Pacific region and will incorporate the AOS Annual Meeting\n  \n\n
DTSTAMP:20260424T161405Z
END:VEVENT
END:VCALENDAR
