BEGIN:VCALENDAR
VERSION:2.0
METHOD:PUBLISH
BEGIN:VEVENT
UID:WILD_APRICOT_EVENT_2165369_SESSION_1
DTSTART:20160904T140000Z
DTEND:20160908T140000Z
SUMMARY:OSA Congress: Photonics and Fiber Technology
LOCATION:SMC Conference & Function Centre\, Sydney\, Australia
DESCRIPTION:https://optics.org.au/event-2165369\n\nThe OSA will be hosting this congress in September in Sydney. It will consist of these meetings:\n  Australian Conference on Optical Fibre Technology (41st ACOFT)\n  Bragg Gratings\, Photosensitivity and Poling in Glass Waveguides (BGPP)\n  Nonlinear Photonics (NP) \n  For more information click here\n  \n\n
DTSTAMP:20260424T163643Z
END:VEVENT
END:VCALENDAR
